BEGIN:VCALENDAR
VERSION:2.0
METHOD:PUBLISH
CALSCALE:GREGORIAN
PRODID:-//Refresh Web Development//Helios Calendar//EN
X-FROM-URL:https://www.bayareascience.org/calendar/index.php?com=details&eID=32939
X-WR-RELCALID:BayAreaScience.org  NightSchool: Aquarium Without Walls - Livestream 20221117T190000
X-WR-TIMEZONE:America/New_York
X-WR-CALNAME:BayAreaScience.org
BEGIN:VEVENT
URL;VALUE=URI:https://www.bayareascience.org/calendar/index.php?com=detail&eID=32939
DTSTART:20221117T190000
DTEND:20221117T190000
SUMMARY: NightSchool: Aquarium Without Walls - Livestream
DESCRIPTION:Beyond caring for our animals and maintaining exhibits\, the Steinhart Aquariumâ€™s skilled team of biologists also somehow find the time to conduct impactful conservation work worldwide. Come...\n______________________________\nThis Event Downloaded From a Helios Calendar Powered Site
LOCATION:California Academy of Sciences -  \, \, CA  
CATEGORIES:BayAreaScience.org Events
PRIORITY:0
TRANSP:TRANSPARENT
END:VEVENT
END:VCALENDAR