BEGIN:VCALENDAR
VERSION:2.0
METHOD:PUBLISH
CALSCALE:GREGORIAN
PRODID:-//Refresh Web Development//Helios Calendar//EN
X-FROM-URL:https://www.bayareascience.org/calendar/index.php?com=details&eID=32943
X-WR-RELCALID:BayAreaScience.org Family Friendly Tour - California Native People and Plants 20221113T140000
X-WR-TIMEZONE:America/New_York
X-WR-CALNAME:BayAreaScience.org
BEGIN:VEVENT
URL;VALUE=URI:https://www.bayareascience.org/calendar/index.php?com=detail&eID=32943
DTSTART:20221113T140000
DTEND:20221113T140000
SUMMARY:Family Friendly Tour - California Native People and Plants
DESCRIPTION:Please join us at the East Bay Regional Parks Botanic Garden for a Special Family Friendly Tour\, California Native People and Plants. On this tour\, youâ€™ll play the traditional...\n______________________________\nThis Event Downloaded From a Helios Calendar Powered Site
LOCATION:Regional Parks Botanic Garden Visitors Center - Tilden Regional Park \, Berkeley\, CA  94708
CATEGORIES:BayAreaScience.org Events
PRIORITY:0
TRANSP:TRANSPARENT
END:VEVENT
END:VCALENDAR