BEGIN:VCALENDAR
VERSION:2.0
METHOD:PUBLISH
CALSCALE:GREGORIAN
PRODID:-//Refresh Web Development//Helios Calendar//EN
X-FROM-URL:https://www.bayareascience.org/calendar/index.php?com=details&eID=32944
X-WR-RELCALID:BayAreaScience.org Honoring Silent Spring: Stories from the Frontlines of the Fight for a Pesticide-Free Future - Livestream 20221025T100000
X-WR-TIMEZONE:America/New_York
X-WR-CALNAME:BayAreaScience.org
BEGIN:VEVENT
URL;VALUE=URI:https://www.bayareascience.org/calendar/index.php?com=detail&eID=32944
DTSTART:20221025T100000
DTEND:20221025T100000
SUMMARY:Honoring Silent Spring: Stories from the Frontlines of the Fight for a Pesticide-Free Future - Livestream
DESCRIPTION:Sixty years ago\, Rachel Carson released her seminal book\,Â \n______________________________\nThis Event Downloaded From a Helios Calendar Powered Site
LOCATION:Ecology Center -  \, \, CA  
CATEGORIES:BayAreaScience.org Events
PRIORITY:0
TRANSP:TRANSPARENT
END:VEVENT
END:VCALENDAR