BEGIN:VCALENDAR
VERSION:2.0
METHOD:PUBLISH
CALSCALE:GREGORIAN
PRODID:-//Refresh Web Development//Helios Calendar//EN
X-FROM-URL:https://www.bayareascience.org/calendar/index.php?com=details&eID=32946
X-WR-RELCALID:BayAreaScience.org In Pursuit of the Organic Archaeological Record: Micromorphology Meets Lipid Analysis 20221102T121000
X-WR-TIMEZONE:America/New_York
X-WR-CALNAME:BayAreaScience.org
BEGIN:VEVENT
URL;VALUE=URI:https://www.bayareascience.org/calendar/index.php?com=detail&eID=32946
DTSTART:20221102T121000
DTEND:20221102T130000
SUMMARY:In Pursuit of the Organic Archaeological Record: Micromorphology Meets Lipid Analysis
DESCRIPTION:In recent years\, "bioarchaeology" has become a prominent term in archaeological research worldwide. Invisible genetic\, protein and lipid residues are increasingly being recovered from artifacts...\n______________________________\nThis Event Downloaded From a Helios Calendar Powered Site
LOCATION:Archaeology Research Facility - UC Berkeley 2251 College\, Berkeley\, CA  94720
CATEGORIES:BayAreaScience.org Events
PRIORITY:0
TRANSP:TRANSPARENT
END:VEVENT
END:VCALENDAR