BEGIN:VCALENDAR
VERSION:2.0
METHOD:PUBLISH
CALSCALE:GREGORIAN
PRODID:-//Refresh Web Development//Helios Calendar//EN
X-FROM-URL:https://www.bayareascience.org/calendar/index.php?com=details&eID=32947
X-WR-RELCALID:BayAreaScience.org  The Growth of Supermassive Black Holes in the Early Universe 20221027T110000
X-WR-TIMEZONE:America/New_York
X-WR-CALNAME:BayAreaScience.org
BEGIN:VEVENT
URL;VALUE=URI:https://www.bayareascience.org/calendar/index.php?com=detail&eID=32947
DTSTART:20221027T110000
DTEND:20221027T120000
SUMMARY: The Growth of Supermassive Black Holes in the Early Universe
DESCRIPTION:The existence of luminous quasars hosting supermassive black holes within the first billion years of cosmic history challenges our understanding of black hole growth. An important piece of the...\n______________________________\nThis Event Downloaded From a Helios Calendar Powered Site
LOCATION:Kavli Institute Astrophysics Colloquium - Physics and Astrophysics Building Room 102/103 452 Lomita Mall\, Stanford\, CA  94305
CATEGORIES:BayAreaScience.org Events
PRIORITY:0
TRANSP:TRANSPARENT
END:VEVENT
END:VCALENDAR