BEGIN:VCALENDAR
VERSION:2.0
METHOD:PUBLISH
CALSCALE:GREGORIAN
PRODID:-//Refresh Web Development//Helios Calendar//EN
X-FROM-URL:https://www.bayareascience.org/calendar/index.php?com=details&eID=32949
X-WR-RELCALID:BayAreaScience.org Hardcore Natural History: Natureâ€™s Extreme Events! 20221130T180000
X-WR-TIMEZONE:America/New_York
X-WR-CALNAME:BayAreaScience.org
BEGIN:VEVENT
URL;VALUE=URI:https://www.bayareascience.org/calendar/index.php?com=detail&eID=32949
DTSTART:20221130T180000
DTEND:20221130T193000
SUMMARY:Hardcore Natural History: Natureâ€™s Extreme Events!
DESCRIPTION:Join us for a panel discussion on the science behind natureâ€™s most extreme moments. Climate change\, tectonic movement\, weather events and more will be discussed. Be sure to come with lots...\n______________________________\nThis Event Downloaded From a Helios Calendar Powered Site
LOCATION:Pacific Grove Museum of Natural History - 165 Forest Ave \, Pacific Grove\, CA  93950
CATEGORIES:BayAreaScience.org Events
PRIORITY:0
TRANSP:TRANSPARENT
END:VEVENT
END:VCALENDAR