BEGIN:VCALENDAR
VERSION:2.0
METHOD:PUBLISH
CALSCALE:GREGORIAN
PRODID:-//Refresh Web Development//Helios Calendar//EN
X-FROM-URL:https://www.bayareascience.org/calendar/index.php?com=details&eID=32950
X-WR-RELCALID:BayAreaScience.org Science of Light 20221210T120000
X-WR-TIMEZONE:America/New_York
X-WR-CALNAME:BayAreaScience.org
BEGIN:VEVENT
URL;VALUE=URI:https://www.bayareascience.org/calendar/index.php?com=detail&eID=32950
DTSTART:20221210T120000
DTEND:20221210T153000
SUMMARY:Science of Light
DESCRIPTION:Visit the wonders of little houses all lite up in the Vallejo Adobe on the grounds of the California Nursery Historical Park.Â Â Â  Then take a closer look at light on...\n______________________________\nThis Event Downloaded From a Helios Calendar Powered Site
LOCATION:California Nursery Historical Park - 36501 Niles Blvd \, Fremont\, CA  94536
CATEGORIES:BayAreaScience.org Events
PRIORITY:0
TRANSP:TRANSPARENT
END:VEVENT
END:VCALENDAR