BEGIN:VCALENDAR
VERSION:2.0
METHOD:PUBLISH
CALSCALE:GREGORIAN
PRODID:-//Refresh Web Development//Helios Calendar//EN
X-FROM-URL:https://www.bayareascience.org/calendar/index.php?com=details&eID=32960
X-WR-RELCALID:BayAreaScience.org  SETI Live: Has Mars Ever Been a Good Place for Life? - Livestream 20221027T143000
X-WR-TIMEZONE:America/New_York
X-WR-CALNAME:BayAreaScience.org
BEGIN:VEVENT
URL;VALUE=URI:https://www.bayareascience.org/calendar/index.php?com=detail&eID=32960
DTSTART:20221027T143000
DTEND:20221027T150000
SUMMARY: SETI Live: Has Mars Ever Been a Good Place for Life? - Livestream
DESCRIPTION:Recent research suggests that Mars was born wet\, with a dense atmosphere allowing warm-to-hot oceans for millions of years. Modeling of Mars' atmosphere succeeded in...\n______________________________\nThis Event Downloaded From a Helios Calendar Powered Site
LOCATION:SETI Institute -  \, \, CA  
CATEGORIES:BayAreaScience.org Events
PRIORITY:0
TRANSP:TRANSPARENT
END:VEVENT
END:VCALENDAR