BEGIN:VCALENDAR
VERSION:2.0
METHOD:PUBLISH
CALSCALE:GREGORIAN
PRODID:-//Refresh Web Development//Helios Calendar//EN
X-FROM-URL:https://www.bayareascience.org/calendar/index.php?com=details&eID=32961
X-WR-RELCALID:BayAreaScience.org The Active Social Lives of Big Black Holes 20221116T190000
X-WR-TIMEZONE:America/New_York
X-WR-CALNAME:BayAreaScience.org
BEGIN:VEVENT
URL;VALUE=URI:https://www.bayareascience.org/calendar/index.php?com=detail&eID=32961
DTSTART:20221116T190000
DTEND:20221116T190000
SUMMARY:The Active Social Lives of Big Black Holes
DESCRIPTION:It is now clear that most...\n______________________________\nThis Event Downloaded From a Helios Calendar Powered Site
LOCATION:San Francisco Amateur Astronomers -  \, \, CA  
CATEGORIES:BayAreaScience.org Events
PRIORITY:0
TRANSP:TRANSPARENT
END:VEVENT
END:VCALENDAR