BEGIN:VCALENDAR
VERSION:2.0
METHOD:PUBLISH
CALSCALE:GREGORIAN
PRODID:-//Refresh Web Development//Helios Calendar//EN
X-FROM-URL:https://www.bayareascience.org/calendar/index.php?com=details&eID=32962
X-WR-RELCALID:BayAreaScience.org Unique Issues for Developing Economies - Livestream 20221031T163000
X-WR-TIMEZONE:America/New_York
X-WR-CALNAME:BayAreaScience.org
BEGIN:VEVENT
URL;VALUE=URI:https://www.bayareascience.org/calendar/index.php?com=detail&eID=32962
DTSTART:20221031T163000
DTEND:20221031T172000
SUMMARY:Unique Issues for Developing Economies - Livestream
DESCRIPTION:With...\n______________________________\nThis Event Downloaded From a Helios Calendar Powered Site
LOCATION:Stanford Energy Seminar -  \, \, CA  
CATEGORIES:BayAreaScience.org Events
PRIORITY:0
TRANSP:TRANSPARENT
END:VEVENT
END:VCALENDAR