BEGIN:VCALENDAR
VERSION:2.0
METHOD:PUBLISH
CALSCALE:GREGORIAN
PRODID:-//Refresh Web Development//Helios Calendar//EN
X-FROM-URL:https://www.bayareascience.org/calendar/index.php?com=details&eID=32963
X-WR-RELCALID:BayAreaScience.org Earthquake Science of the Bay Area and How to Prepare- Livestream 20221117T190000
X-WR-TIMEZONE:America/New_York
X-WR-CALNAME:BayAreaScience.org
BEGIN:VEVENT
URL;VALUE=URI:https://www.bayareascience.org/calendar/index.php?com=detail&eID=32963
DTSTART:20221117T190000
DTEND:20221117T200000
SUMMARY:Earthquake Science of the Bay Area and How to Prepare- Livestream
DESCRIPTION:Are you prepared for the next big earthquake? We always hear â€œthe big oneâ€™s comingâ€ but what does that really mean? We asked Earthquake Geologist and Science Communicator Bryan...\n______________________________\nThis Event Downloaded From a Helios Calendar Powered Site
LOCATION:Peninsula Open Space Trust -  \, \, CA  
CATEGORIES:BayAreaScience.org Events
PRIORITY:0
TRANSP:TRANSPARENT
END:VEVENT
END:VCALENDAR