BEGIN:VCALENDAR
VERSION:2.0
METHOD:PUBLISH
CALSCALE:GREGORIAN
PRODID:-//Refresh Web Development//Helios Calendar//EN
X-FROM-URL:https://www.bayareascience.org/calendar/index.php?com=details&eID=32964
X-WR-RELCALID:BayAreaScience.org Drop-in at Palo Alto Baylands 20221126T090000
X-WR-TIMEZONE:America/New_York
X-WR-CALNAME:BayAreaScience.org
BEGIN:VEVENT
URL;VALUE=URI:https://www.bayareascience.org/calendar/index.php?com=detail&eID=32964
DTSTART:20221126T090000
DTEND:20221126T110000
SUMMARY:Drop-in at Palo Alto Baylands
DESCRIPTION:Drop-in anytime between 9 am and 11 am to bird with us! SCVAS volunteers will be stationed at Palo Alto Baylands on the north...\n______________________________\nThis Event Downloaded From a Helios Calendar Powered Site
LOCATION:Palo Alto Duck Pond - Embarcadero Rd \, Palo Alto\, CA  94303
CATEGORIES:BayAreaScience.org Events
PRIORITY:0
TRANSP:TRANSPARENT
END:VEVENT
END:VCALENDAR