BEGIN:VCALENDAR
VERSION:2.0
METHOD:PUBLISH
CALSCALE:GREGORIAN
PRODID:-//Refresh Web Development//Helios Calendar//EN
X-FROM-URL:https://www.bayareascience.org/calendar/index.php?com=details&eID=32966
X-WR-RELCALID:BayAreaScience.org  Fall Friends & Family Day at Bouverie Preserve 20221119T100000
X-WR-TIMEZONE:America/New_York
X-WR-CALNAME:BayAreaScience.org
BEGIN:VEVENT
URL;VALUE=URI:https://www.bayareascience.org/calendar/index.php?com=detail&eID=32966
DTSTART:20221119T100000
DTEND:20221119T130000
SUMMARY: Fall Friends & Family Day at Bouverie Preserve
DESCRIPTION:Take a walk with your friends and family through Bouverie Preserve and stop to explore with our nature enthusiasts who will be at different locations ready to share some of the wonders of nature...\n______________________________\nThis Event Downloaded From a Helios Calendar Powered Site
LOCATION:Bouverie Preserve - 13935 California 12 \, Glen Ellen\, CA  95442
CATEGORIES:BayAreaScience.org Events
PRIORITY:0
TRANSP:TRANSPARENT
END:VEVENT
END:VCALENDAR