BEGIN:VCALENDAR
VERSION:2.0
METHOD:PUBLISH
CALSCALE:GREGORIAN
PRODID:-//Refresh Web Development//Helios Calendar//EN
X-FROM-URL:https://www.bayareascience.org/calendar/index.php?com=details&eID=32969
X-WR-RELCALID:BayAreaScience.org The Critical Role of Cybersecurity in M&A: A Framework for Mitigating and Managing Risk - Livestream 20221109T090000
X-WR-TIMEZONE:America/New_York
X-WR-CALNAME:BayAreaScience.org
BEGIN:VEVENT
URL;VALUE=URI:https://www.bayareascience.org/calendar/index.php?com=detail&eID=32969
DTSTART:20221109T090000
DTEND:20221109T100000
SUMMARY:The Critical Role of Cybersecurity in M&A: A Framework for Mitigating and Managing Risk - Livestream
DESCRIPTION:With the ever-increasing threat landscape impacting businesses globally\, understanding cybersecurity risk has become an essential component of the mergers and acquisitions...\n______________________________\nThis Event Downloaded From a Helios Calendar Powered Site
LOCATION:Center for Long-Term Cybersecurity -  \, \, CA  
CATEGORIES:BayAreaScience.org Events
PRIORITY:0
TRANSP:TRANSPARENT
END:VEVENT
END:VCALENDAR