BEGIN:VCALENDAR
VERSION:2.0
METHOD:PUBLISH
CALSCALE:GREGORIAN
PRODID:-//Refresh Web Development//Helios Calendar//EN
X-FROM-URL:https://www.bayareascience.org/calendar/index.php?com=details&eID=32970
X-WR-RELCALID:BayAreaScience.org  Autonomous Vehicles and the City 2022 20221107T130000
X-WR-TIMEZONE:America/New_York
X-WR-CALNAME:BayAreaScience.org
BEGIN:VEVENT
URL;VALUE=URI:https://www.bayareascience.org/calendar/index.php?com=detail&eID=32970
DTSTART:20221107T130000
DTEND:20221107T163000
SUMMARY: Autonomous Vehicles and the City 2022
DESCRIPTION:What are the issues and opportunities for cities as autonomous vehicles hit the road? How can we plan for and accommodate new forms of transport and smart city infrastructure that serves the public...\n______________________________\nThis Event Downloaded From a Helios Calendar Powered Site
LOCATION:Commonwealth Club - 110 The Embarcadero \, San Francisco\, CA  94105
CATEGORIES:BayAreaScience.org Events
PRIORITY:0
TRANSP:TRANSPARENT
END:VEVENT
END:VCALENDAR