BEGIN:VCALENDAR
VERSION:2.0
METHOD:PUBLISH
CALSCALE:GREGORIAN
PRODID:-//Refresh Web Development//Helios Calendar//EN
X-FROM-URL:https://www.bayareascience.org/calendar/index.php?com=details&eID=32974
X-WR-RELCALID:BayAreaScience.org Citizen Astronomy with the Unisteller Network - Asteroids, Exoplanets & Education 20221104T200000
X-WR-TIMEZONE:America/New_York
X-WR-CALNAME:BayAreaScience.org
BEGIN:VEVENT
URL;VALUE=URI:https://www.bayareascience.org/calendar/index.php?com=detail&eID=32974
DTSTART:20221104T200000
DTEND:20221104T200000
SUMMARY:Citizen Astronomy with the Unisteller Network - Asteroids\, Exoplanets & Education
DESCRIPTION:Speaker: Dr. Franck Marchis\, SETI Institute\n______________________________\nThis Event Downloaded From a Helios Calendar Powered Site
LOCATION:College of San Mateo Bldg 36 - 1700 W Hillsdale Rd \, San Mateo\, CA USA 94402
CATEGORIES:BayAreaScience.org Events
PRIORITY:0
TRANSP:TRANSPARENT
END:VEVENT
END:VCALENDAR