BEGIN:VCALENDAR
VERSION:2.0
METHOD:PUBLISH
CALSCALE:GREGORIAN
PRODID:-//Refresh Web Development//Helios Calendar//EN
X-FROM-URL:https://www.bayareascience.org/calendar/index.php?com=details&eID=32977
X-WR-RELCALID:BayAreaScience.org Theoretically Speaking: PACE Tech: Physics and Algorithms Coupled to Enhance Technology 20221107T180000
X-WR-TIMEZONE:America/New_York
X-WR-CALNAME:BayAreaScience.org
BEGIN:VEVENT
URL;VALUE=URI:https://www.bayareascience.org/calendar/index.php?com=detail&eID=32977
DTSTART:20221107T180000
DTEND:20221107T193000
SUMMARY:Theoretically Speaking: PACE Tech: Physics and Algorithms Coupled to Enhance Technology
DESCRIPTION:The digital revolution affects every aspect of human society and infrastructure - communications channels\, medical imaging\, and radar systems\, to name just a few. This revolution is based on sensing...\n______________________________\nThis Event Downloaded From a Helios Calendar Powered Site
LOCATION:David Brower Center - 2150 Allston Way \, Berkeley\, CA  94704
CATEGORIES:BayAreaScience.org Events
PRIORITY:0
TRANSP:TRANSPARENT
END:VEVENT
END:VCALENDAR