BEGIN:VCALENDAR
VERSION:2.0
METHOD:PUBLISH
CALSCALE:GREGORIAN
PRODID:-//Refresh Web Development//Helios Calendar//EN
X-FROM-URL:https://www.bayareascience.org/calendar/index.php?com=details&eID=33055
X-WR-RELCALID:BayAreaScience.org Urable Worlds: Where and How can Life Start in the Universe? 20221116T190000
X-WR-TIMEZONE:America/New_York
X-WR-CALNAME:BayAreaScience.org
BEGIN:VEVENT
URL;VALUE=URI:https://www.bayareascience.org/calendar/index.php?com=detail&eID=33055
DTSTART:20221116T190000
DTEND:20221116T200000
SUMMARY:Urable Worlds: Where and How can Life Start in the Universe?
DESCRIPTION:On which...\n______________________________\nThis Event Downloaded From a Helios Calendar Powered Site
LOCATION:SETI Institute: SETI Talks - 339 North Bernardo Ave Suite 200\, Mountain View\, CA  94043
CATEGORIES:BayAreaScience.org Events
PRIORITY:0
TRANSP:TRANSPARENT
END:VEVENT
END:VCALENDAR