BEGIN:VCALENDAR
VERSION:2.0
METHOD:PUBLISH
CALSCALE:GREGORIAN
PRODID:-//Refresh Web Development//Helios Calendar//EN
X-FROM-URL:https://www.bayareascience.org/calendar/index.php?com=details&eID=33058
X-WR-RELCALID:BayAreaScience.org The Milky Way in X-rays: Searching for extreme objects in our own backyard 20221103T190000
X-WR-TIMEZONE:America/New_York
X-WR-CALNAME:BayAreaScience.org
BEGIN:VEVENT
URL;VALUE=URI:https://www.bayareascience.org/calendar/index.php?com=detail&eID=33058
DTSTART:20221103T190000
DTEND:20221103T213000
SUMMARY:The Milky Way in X-rays: Searching for extreme objects in our own backyard
DESCRIPTION:Astronomers estimate that there are nearly 100 million black holes in our galaxy\, the Milky Way. So where are they? And what other extreme objects exist within our stellar metropolis? We typically...\n______________________________\nThis Event Downloaded From a Helios Calendar Powered Site
LOCATION:Physics North - UC Berkeley Room 1\, Berkeley\, CA  94720
CATEGORIES:BayAreaScience.org Events
PRIORITY:0
TRANSP:TRANSPARENT
END:VEVENT
END:VCALENDAR