BEGIN:VCALENDAR
VERSION:2.0
METHOD:PUBLISH
CALSCALE:GREGORIAN
PRODID:-//Refresh Web Development//Helios Calendar//EN
X-FROM-URL:https://www.bayareascience.org/calendar/index.php?com=details&eID=33066
X-WR-RELCALID:BayAreaScience.org North Coyote Valley December BioBlitz 20221203T090000
X-WR-TIMEZONE:America/New_York
X-WR-CALNAME:BayAreaScience.org
BEGIN:VEVENT
URL;VALUE=URI:https://www.bayareascience.org/calendar/index.php?com=detail&eID=33066
DTSTART:20221203T090000
DTEND:20221203T120000
SUMMARY:North Coyote Valley December BioBlitz
DESCRIPTION:Explore the North Coyote Valley Conservation Area with SCVAS! Join us for a BioBlitz to explore the plants and animals that call this part of the...\n______________________________\nThis Event Downloaded From a Helios Calendar Powered Site
LOCATION:North Coyote Valley Conservation Area - Santa Teresa Blvd \, San Jose\, CA  
CATEGORIES:BayAreaScience.org Events
PRIORITY:0
TRANSP:TRANSPARENT
END:VEVENT
END:VCALENDAR