BEGIN:VCALENDAR
VERSION:2.0
METHOD:PUBLISH
CALSCALE:GREGORIAN
PRODID:-//Refresh Web Development//Helios Calendar//EN
X-FROM-URL:https://www.bayareascience.org/calendar/index.php?com=details&eID=33068
X-WR-RELCALID:BayAreaScience.org For a Good Night's Sleep 20221107T180000
X-WR-TIMEZONE:America/New_York
X-WR-CALNAME:BayAreaScience.org
BEGIN:VEVENT
URL;VALUE=URI:https://www.bayareascience.org/calendar/index.php?com=detail&eID=33068
DTSTART:20221107T180000
DTEND:20221107T190000
SUMMARY:For a Good Night's Sleep
DESCRIPTION:Research indicates thatÂ allÂ animals sleep. For humans\, sleep is essential for physical and mental health - as necessary as food\, water\, and oxygen. Yet many of...\n______________________________\nThis Event Downloaded From a Helios Calendar Powered Site
LOCATION:Commonwealth Club - Online Event -  \, \, CA  
CATEGORIES:BayAreaScience.org Events
PRIORITY:0
TRANSP:TRANSPARENT
END:VEVENT
END:VCALENDAR