BEGIN:VCALENDAR
VERSION:2.0
METHOD:PUBLISH
CALSCALE:GREGORIAN
PRODID:-//Refresh Web Development//Helios Calendar//EN
X-FROM-URL:https://www.bayareascience.org/calendar/index.php?com=details&eID=33072
X-WR-RELCALID:BayAreaScience.org Community Day at Cypress Grove 20221112T100000
X-WR-TIMEZONE:America/New_York
X-WR-CALNAME:BayAreaScience.org
BEGIN:VEVENT
URL;VALUE=URI:https://www.bayareascience.org/calendar/index.php?com=detail&eID=33072
DTSTART:20221112T100000
DTEND:20221112T140000
SUMMARY:Community Day at Cypress Grove
DESCRIPTION:Meet Audubon Canyon Ranchâ€™s science staff - Join a guided bird walk - Explore the preserveNo reservation needed - light snacks and beverages will be provided\, but feel free...\n______________________________\nThis Event Downloaded From a Helios Calendar Powered Site
LOCATION:Cypress Grove Preserve - 20545 Shoreline Highway \, Marshall\, CA  94940
CATEGORIES:BayAreaScience.org Events
PRIORITY:0
TRANSP:TRANSPARENT
END:VEVENT
END:VCALENDAR