BEGIN:VCALENDAR
VERSION:2.0
METHOD:PUBLISH
CALSCALE:GREGORIAN
PRODID:-//Refresh Web Development//Helios Calendar//EN
X-FROM-URL:https://www.bayareascience.org/calendar/index.php?com=details&eID=33073
X-WR-RELCALID:BayAreaScience.org Lost Landscapes 02022 Bay and Gateway: Past Glimpses and Possible Futures 20221213T190000
X-WR-TIMEZONE:America/New_York
X-WR-CALNAME:BayAreaScience.org
BEGIN:VEVENT
URL;VALUE=URI:https://www.bayareascience.org/calendar/index.php?com=detail&eID=33073
DTSTART:20221213T190000
DTEND:20221213T190000
SUMMARY:Lost Landscapes 02022 Bay and Gateway: Past Glimpses and Possible Futures
DESCRIPTION:This year's LOST LANDSCAPES pictures the infrastructures\, peoples and landscapes of California\, centering on San Franciscoâ€™s everyday past and the futures we have tried...\n______________________________\nThis Event Downloaded From a Helios Calendar Powered Site
LOCATION:Herbst Theater - 401 Van Ness Ave. \, San Francisco\, CA USA 94102
CATEGORIES:BayAreaScience.org Events
PRIORITY:0
TRANSP:TRANSPARENT
END:VEVENT
END:VCALENDAR