BEGIN:VCALENDAR
VERSION:2.0
METHOD:PUBLISH
CALSCALE:GREGORIAN
PRODID:-//Refresh Web Development//Helios Calendar//EN
X-FROM-URL:https://www.bayareascience.org/calendar/index.php?com=details&eID=33074
X-WR-RELCALID:BayAreaScience.org  Opening the Infrared Treasure Chest with JWST - Livestream 20221114T153000
X-WR-TIMEZONE:America/New_York
X-WR-CALNAME:BayAreaScience.org
BEGIN:VEVENT
URL;VALUE=URI:https://www.bayareascience.org/calendar/index.php?com=detail&eID=33074
DTSTART:20221114T153000
DTEND:20221114T163000
SUMMARY: Opening the Infrared Treasure Chest with JWST - Livestream
DESCRIPTION:\n______________________________\nThis Event Downloaded From a Helios Calendar Powered Site
LOCATION:SLAC Colloquium Series -  \, \, CA  
CATEGORIES:BayAreaScience.org Events
PRIORITY:0
TRANSP:TRANSPARENT
END:VEVENT
END:VCALENDAR