BEGIN:VCALENDAR
VERSION:2.0
METHOD:PUBLISH
CALSCALE:GREGORIAN
PRODID:-//Refresh Web Development//Helios Calendar//EN
X-FROM-URL:https://www.bayareascience.org/calendar/index.php?com=details&eID=33075
X-WR-RELCALID:BayAreaScience.org Learning-Augmented Algorithms for Safety-Critical Systems 20221206T160000
X-WR-TIMEZONE:America/New_York
X-WR-CALNAME:BayAreaScience.org
BEGIN:VEVENT
URL;VALUE=URI:https://www.bayareascience.org/calendar/index.php?com=detail&eID=33075
DTSTART:20221206T160000
DTEND:20221206T170000
SUMMARY:Learning-Augmented Algorithms for Safety-Critical Systems
DESCRIPTION:Making use of modern black-box AI tools such as deep reinforcement learning is potentially transformational for safety-critical systems such as data centers\, the electricity grid\, transportation\,...\n______________________________\nThis Event Downloaded From a Helios Calendar Powered Site
LOCATION:Calvin Laboratory - UC Berkeley Auditorium\, Berkeley\, CA  94720
CATEGORIES:BayAreaScience.org Events
PRIORITY:0
TRANSP:TRANSPARENT
END:VEVENT
END:VCALENDAR