BEGIN:VCALENDAR
VERSION:2.0
METHOD:PUBLISH
CALSCALE:GREGORIAN
PRODID:-//Refresh Web Development//Helios Calendar//EN
X-FROM-URL:https://www.bayareascience.org/calendar/index.php?com=details&eID=33076
X-WR-RELCALID:BayAreaScience.org Two talks: chinese American Chemical Society - POSTPONED 20221117T161500
X-WR-TIMEZONE:America/New_York
X-WR-CALNAME:BayAreaScience.org
BEGIN:VEVENT
URL;VALUE=URI:https://www.bayareascience.org/calendar/index.php?com=detail&eID=33076
DTSTART:20221117T161500
DTEND:20221117T180000
SUMMARY:Two talks: chinese American Chemical Society - POSTPONED
DESCRIPTION:Please register and join us for the inaugural program of the new Northern California Chapter of the Chinese American Chemical Society (CACS) â€¢ CACS overview and...\n______________________________\nThis Event Downloaded From a Helios Calendar Powered Site
LOCATION:History Corner (Bldg 200) - 450 Serra Mall Stanford University\, Stanford\, CA  94305
CATEGORIES:BayAreaScience.org Events
PRIORITY:0
TRANSP:TRANSPARENT
END:VEVENT
END:VCALENDAR