BEGIN:VCALENDAR
VERSION:2.0
METHOD:PUBLISH
CALSCALE:GREGORIAN
PRODID:-//Refresh Web Development//Helios Calendar//EN
X-FROM-URL:https://www.bayareascience.org/calendar/index.php?com=details&eID=33077
X-WR-RELCALID:BayAreaScience.org  Elves, Dwarfs, and (mini) Monsters 20221110T110000
X-WR-TIMEZONE:America/New_York
X-WR-CALNAME:BayAreaScience.org
BEGIN:VEVENT
URL;VALUE=URI:https://www.bayareascience.org/calendar/index.php?com=detail&eID=33077
DTSTART:20221110T110000
DTEND:20221110T120000
SUMMARY: Elves\, Dwarfs\, and (mini) Monsters
DESCRIPTION:Our Local Group has been a rich testing ground for small-scale predictions of the Lambda Cold Dark Matter model\, along with the impact of reionization and stellar feedback on the evolution of dwarf...\n______________________________\nThis Event Downloaded From a Helios Calendar Powered Site
LOCATION:Kavli Institute Astrophysics Colloquium - Physics and Astrophysics Building Room 102/103 452 Lomita Mall\, Stanford\, CA  94305
CATEGORIES:BayAreaScience.org Events
PRIORITY:0
TRANSP:TRANSPARENT
END:VEVENT
END:VCALENDAR