BEGIN:VCALENDAR
VERSION:2.0
METHOD:PUBLISH
CALSCALE:GREGORIAN
PRODID:-//Refresh Web Development//Helios Calendar//EN
X-FROM-URL:https://www.bayareascience.org/calendar/index.php?com=details&eID=33082
X-WR-RELCALID:BayAreaScience.org Overturning the Paradigm: What systems approaches tell us about glycosylation and non-coding RNA - CANCELED 20221114T160000
X-WR-TIMEZONE:America/New_York
X-WR-CALNAME:BayAreaScience.org
BEGIN:VEVENT
URL;VALUE=URI:https://www.bayareascience.org/calendar/index.php?com=detail&eID=33082
DTSTART:20221114T160000
DTEND:20221114T170000
SUMMARY:Overturning the Paradigm: What systems approaches tell us about glycosylation and non-coding RNA - CANCELED
DESCRIPTION:Glycans offer cells a rich coding space\, integrating information from the genome\, transcriptome and proteome that reflects both cell status and the function of cells within an organism. Their position...\n______________________________\nThis Event Downloaded From a Helios Calendar Powered Site
LOCATION:Stanley Hall - UC Berkeley Room 106\, Berkeley\, CA  94720
CATEGORIES:BayAreaScience.org Events
PRIORITY:0
TRANSP:TRANSPARENT
END:VEVENT
END:VCALENDAR