BEGIN:VCALENDAR
VERSION:2.0
METHOD:PUBLISH
CALSCALE:GREGORIAN
PRODID:-//Refresh Web Development//Helios Calendar//EN
X-FROM-URL:https://www.bayareascience.org/calendar/index.php?com=details&eID=33083
X-WR-RELCALID:BayAreaScience.org Autonomous Big Data Collection and Analysis in Electron Microscopy 20221202T140000
X-WR-TIMEZONE:America/New_York
X-WR-CALNAME:BayAreaScience.org
BEGIN:VEVENT
URL;VALUE=URI:https://www.bayareascience.org/calendar/index.php?com=detail&eID=33083
DTSTART:20221202T140000
DTEND:20221202T150000
SUMMARY:Autonomous Big Data Collection and Analysis in Electron Microscopy
DESCRIPTION:The promise of incorporating "big data" into the advancement of science is that it will accelerate our ability to discover new materials and phenomena\; however\, significant hurdles to this exciting...\n______________________________\nThis Event Downloaded From a Helios Calendar Powered Site
LOCATION:Tan Hall - UC Berkeley Room 180\, Berkeley\, CA  94720
CATEGORIES:BayAreaScience.org Events
PRIORITY:0
TRANSP:TRANSPARENT
END:VEVENT
END:VCALENDAR