BEGIN:VCALENDAR
VERSION:2.0
METHOD:PUBLISH
CALSCALE:GREGORIAN
PRODID:-//Refresh Web Development//Helios Calendar//EN
X-FROM-URL:https://www.bayareascience.org/calendar/index.php?com=details&eID=33084
X-WR-RELCALID:BayAreaScience.org What if the Moon Didnâ€™t Exist? - Livestream 20221112T200000
X-WR-TIMEZONE:America/New_York
X-WR-CALNAME:BayAreaScience.org
BEGIN:VEVENT
URL;VALUE=URI:https://www.bayareascience.org/calendar/index.php?com=detail&eID=33084
DTSTART:20221112T200000
DTEND:20221112T213000
SUMMARY:What if the Moon Didnâ€™t Exist? - Livestream
DESCRIPTION:Assuming that the Moon formed as the result of a collision between Earth and a Mars-sized asteroid\, Neil will explore how the Earth would be different today if that event had never occurred. As...\n______________________________\nThis Event Downloaded From a Helios Calendar Powered Site
LOCATION:San Jose Astronomical Society -  \, \, CA  
CATEGORIES:BayAreaScience.org Events
PRIORITY:0
TRANSP:TRANSPARENT
END:VEVENT
END:VCALENDAR