BEGIN:VCALENDAR
VERSION:2.0
METHOD:PUBLISH
CALSCALE:GREGORIAN
PRODID:-//Refresh Web Development//Helios Calendar//EN
X-FROM-URL:https://www.bayareascience.org/calendar/index.php?com=details&eID=33109
X-WR-RELCALID:BayAreaScience.org Chromatin Club Bay Area - In Person Symposium 20221130T110000
X-WR-TIMEZONE:America/New_York
X-WR-CALNAME:BayAreaScience.org
BEGIN:VEVENT
URL;VALUE=URI:https://www.bayareascience.org/calendar/index.php?com=detail&eID=33109
DTSTART:20221130T110000
DTEND:20221130T160000
SUMMARY:Chromatin Club Bay Area - In Person Symposium
DESCRIPTION:The Chromatin Club Bay Area was founded to foster a scientific community between Stanford\, Berkeley\, UC San Francisco\, UC Santa Cruz\, UC Davis\, UC Merced and others. We organize monthly online...\n______________________________\nThis Event Downloaded From a Helios Calendar Powered Site
LOCATION:Genentech Hall - 600 16th Street \, San Francisco\, CA  94158
CATEGORIES:BayAreaScience.org Events
PRIORITY:0
TRANSP:TRANSPARENT
END:VEVENT
END:VCALENDAR