BEGIN:VCALENDAR
VERSION:2.0
METHOD:PUBLISH
CALSCALE:GREGORIAN
PRODID:-//Refresh Web Development//Helios Calendar//EN
X-FROM-URL:https://www.bayareascience.org/calendar/index.php?com=details&eID=33111
X-WR-RELCALID:BayAreaScience.org Dr. Mary Bowerman Science & Research Colloquium 20221208T090000
X-WR-TIMEZONE:America/New_York
X-WR-CALNAME:BayAreaScience.org
BEGIN:VEVENT
URL;VALUE=URI:https://www.bayareascience.org/calendar/index.php?com=detail&eID=33111
DTSTART:20221208T090000
DTEND:20221208T123000
SUMMARY:Dr. Mary Bowerman Science & Research Colloquium
DESCRIPTION:Dr. Mary Leolin Bowerman co-founded Save Mount Diablo in 1971. Mary was a botanist and a student of the flora of Mount Diablo for over 70 years. In her honor\, Save Mount Diablo established the...\n______________________________\nThis Event Downloaded From a Helios Calendar Powered Site
LOCATION:David Brower Center - 2150 Allston Way \, Berkeley\, CA  94704
CATEGORIES:BayAreaScience.org Events
PRIORITY:0
TRANSP:TRANSPARENT
END:VEVENT
END:VCALENDAR