BEGIN:VCALENDAR
VERSION:2.0
METHOD:PUBLISH
CALSCALE:GREGORIAN
PRODID:-//Refresh Web Development//Helios Calendar//EN
X-FROM-URL:https://www.bayareascience.org/calendar/index.php?com=details&eID=33113
X-WR-RELCALID:BayAreaScience.org Corporations and Climate Risk in the Real World: The Case of PG&E - Livestream 20221116T153000
X-WR-TIMEZONE:America/New_York
X-WR-CALNAME:BayAreaScience.org
BEGIN:VEVENT
URL;VALUE=URI:https://www.bayareascience.org/calendar/index.php?com=detail&eID=33113
DTSTART:20221116T153000
DTEND:20221116T184500
SUMMARY:Corporations and Climate Risk in the Real World: The Case of PG&E - Livestream
DESCRIPTION:Every year\, much of the western United States is ravaged by ever more severe wildfires\, caused in part by local decisions and in part by the local impacts of global climate change. Many of the...\n______________________________\nThis Event Downloaded From a Helios Calendar Powered Site
LOCATION:Stanford University -  \, \, CA  
CATEGORIES:BayAreaScience.org Events
PRIORITY:0
TRANSP:TRANSPARENT
END:VEVENT
END:VCALENDAR