BEGIN:VCALENDAR
VERSION:2.0
METHOD:PUBLISH
CALSCALE:GREGORIAN
PRODID:-//Refresh Web Development//Helios Calendar//EN
X-FROM-URL:https://www.bayareascience.org/calendar/index.php?com=details&eID=33116
X-WR-RELCALID:BayAreaScience.org Two talks at Hopkins Marine Station 20221117T120000
X-WR-TIMEZONE:America/New_York
X-WR-CALNAME:BayAreaScience.org
BEGIN:VEVENT
URL;VALUE=URI:https://www.bayareascience.org/calendar/index.php?com=detail&eID=33116
DTSTART:20221117T120000
DTEND:20221117T130000
SUMMARY:Two talks at Hopkins Marine Station
DESCRIPTION:Economic Impacts of Environmental Shocks in Small-Scale FisheriesDr. VillaseÃ±or-Derbez studies coupled human-ocean systems. He draws from his training in oceanography\,...\n______________________________\nThis Event Downloaded From a Helios Calendar Powered Site
LOCATION:Hopkins Marine Station - 120 Ocean View Blvd \, Pacific Grove\, CA  93950
CATEGORIES:BayAreaScience.org Events
PRIORITY:0
TRANSP:TRANSPARENT
END:VEVENT
END:VCALENDAR