BEGIN:VCALENDAR
VERSION:2.0
METHOD:PUBLISH
CALSCALE:GREGORIAN
PRODID:-//Refresh Web Development//Helios Calendar//EN
X-FROM-URL:https://www.bayareascience.org/calendar/index.php?com=details&eID=33122
X-WR-RELCALID:BayAreaScience.org The Science of Communicating Climate Change - Livestream 20221130T100000
X-WR-TIMEZONE:America/New_York
X-WR-CALNAME:BayAreaScience.org
BEGIN:VEVENT
URL;VALUE=URI:https://www.bayareascience.org/calendar/index.php?com=detail&eID=33122
DTSTART:20221130T100000
DTEND:20221130T113000
SUMMARY:The Science of Communicating Climate Change - Livestream
DESCRIPTION:As important as knowing the climate science\, social science provides evidence-based practices that allow us to communicate climate science more effectively. In this session\, you will be introduced...\n______________________________\nThis Event Downloaded From a Helios Calendar Powered Site
LOCATION:Marine Mammal Center -  \, \, CA  
CATEGORIES:BayAreaScience.org Events
PRIORITY:0
TRANSP:TRANSPARENT
END:VEVENT
END:VCALENDAR