BEGIN:VCALENDAR
VERSION:2.0
METHOD:PUBLISH
CALSCALE:GREGORIAN
PRODID:-//Refresh Web Development//Helios Calendar//EN
X-FROM-URL:https://www.bayareascience.org/calendar/index.php?com=details&eID=33127
X-WR-RELCALID:BayAreaScience.org FREE Ohlone Nature Walk at Alum Rock Park 20221119T143000
X-WR-TIMEZONE:America/New_York
X-WR-CALNAME:BayAreaScience.org
BEGIN:VEVENT
URL;VALUE=URI:https://www.bayareascience.org/calendar/index.php?com=detail&eID=33127
DTSTART:20221119T143000
DTEND:20221119T160000
SUMMARY:FREE Ohlone Nature Walk at Alum Rock Park
DESCRIPTION:FREE Ohlone Nature Walk at Alum Rock ParkJoin YSI for a beautiful walk in the park while learning about the plants and animals that were important for the Ohlone Native...\n______________________________\nThis Event Downloaded From a Helios Calendar Powered Site
LOCATION:Alum Rock Park - 15350 Penitencia Creek Rd \, San Jose\, CA  95127
CATEGORIES:BayAreaScience.org Events
PRIORITY:0
TRANSP:TRANSPARENT
END:VEVENT
END:VCALENDAR