BEGIN:VCALENDAR
VERSION:2.0
METHOD:PUBLISH
CALSCALE:GREGORIAN
PRODID:-//Refresh Web Development//Helios Calendar//EN
X-FROM-URL:https://www.bayareascience.org/calendar/index.php?com=details&eID=33137
X-WR-RELCALID:BayAreaScience.org  Addressing HIV/AIDS, PrEP and STI After the Pandemic 20221215T180000
X-WR-TIMEZONE:America/New_York
X-WR-CALNAME:BayAreaScience.org
BEGIN:VEVENT
URL;VALUE=URI:https://www.bayareascience.org/calendar/index.php?com=detail&eID=33137
DTSTART:20221215T180000
DTEND:20221215T200000
SUMMARY: Addressing HIV/AIDS\, PrEP and STI After the Pandemic
DESCRIPTION:Join us for our annual year-end program and celebration of "The Michelle Meow Show" at The Commonwealth Club. First\, we'll have a fascinating discussion with health experts drawing on the latest...\n______________________________\nThis Event Downloaded From a Helios Calendar Powered Site
LOCATION:Commonwealth Club - 110 The Embarcadero \, San Francisco\, CA  94105
CATEGORIES:BayAreaScience.org Events
PRIORITY:0
TRANSP:TRANSPARENT
END:VEVENT
END:VCALENDAR