BEGIN:VCALENDAR
VERSION:2.0
METHOD:PUBLISH
CALSCALE:GREGORIAN
PRODID:-//Refresh Web Development//Helios Calendar//EN
X-FROM-URL:https://www.bayareascience.org/calendar/index.php?com=details&eID=33150
X-WR-RELCALID:BayAreaScience.org  Fort Point Candlelight Tour 20230107T183000
X-WR-TIMEZONE:America/New_York
X-WR-CALNAME:BayAreaScience.org
BEGIN:VEVENT
URL;VALUE=URI:https://www.bayareascience.org/calendar/index.php?com=detail&eID=33150
DTSTART:20230107T183000
DTEND:20230107T200000
SUMMARY: Fort Point Candlelight Tour
DESCRIPTION:The Candlelight Tour of Fort Point is a popular guided program that allows visitors to experience the fort in a new light. This evening tour will maze through the shadows of the historic structure...\n______________________________\nThis Event Downloaded From a Helios Calendar Powered Site
LOCATION:Fort Point - Long Ave & Marine Drive \, San Francisco\, CA  94129
CATEGORIES:BayAreaScience.org Events
PRIORITY:0
TRANSP:TRANSPARENT
END:VEVENT
END:VCALENDAR