BEGIN:VCALENDAR
VERSION:2.0
METHOD:PUBLISH
CALSCALE:GREGORIAN
PRODID:-//Refresh Web Development//Helios Calendar//EN
X-FROM-URL:https://www.bayareascience.org/calendar/index.php?com=details&eID=33154
X-WR-RELCALID:BayAreaScience.org Point Reyes Fungus Fair 20230108T100000
X-WR-TIMEZONE:America/New_York
X-WR-CALNAME:BayAreaScience.org
BEGIN:VEVENT
URL;VALUE=URI:https://www.bayareascience.org/calendar/index.php?com=detail&eID=33154
DTSTART:20230108T100000
DTEND:20230108T160000
SUMMARY:Point Reyes Fungus Fair
DESCRIPTION:Join us for the 16th annual Point Reyes National Seashore Fungus Fair!...\n______________________________\nThis Event Downloaded From a Helios Calendar Powered Site
LOCATION:Bear Valley Visitor Center - 1 Bear Valley Visitor Center Access Road Red Barn Classroom\, Point Reyes Station\, CA  94956
CATEGORIES:BayAreaScience.org Events
PRIORITY:0
TRANSP:TRANSPARENT
END:VEVENT
END:VCALENDAR