BEGIN:VCALENDAR
VERSION:2.0
METHOD:PUBLISH
CALSCALE:GREGORIAN
PRODID:-//Refresh Web Development//Helios Calendar//EN
X-FROM-URL:https://www.bayareascience.org/calendar/index.php?com=details&eID=33155
X-WR-RELCALID:BayAreaScience.org Sycamore Grove Mushroom Madness - CANCELED 20230115T100000
X-WR-TIMEZONE:America/New_York
X-WR-CALNAME:BayAreaScience.org
BEGIN:VEVENT
URL;VALUE=URI:https://www.bayareascience.org/calendar/index.php?com=detail&eID=33155
DTSTART:20230115T100000
DTEND:20230115T140000
SUMMARY:Sycamore Grove Mushroom Madness - CANCELED
DESCRIPTION:We're taking an opportunity to reinvent the Mushroom Madness mushroom event at Sycamore Grove Park in Livermore. Join Debbie Veiss for the annual mushroom hunt at 1:00 pm. Meet at Sycamore Grove/Veterans...\n______________________________\nThis Event Downloaded From a Helios Calendar Powered Site
LOCATION:Sycamore Grove Park - 1051 Wetmore Rd \, Livermore\, CA  94550
CATEGORIES:BayAreaScience.org Events
PRIORITY:0
TRANSP:TRANSPARENT
END:VEVENT
END:VCALENDAR