BEGIN:VCALENDAR
VERSION:2.0
METHOD:PUBLISH
CALSCALE:GREGORIAN
PRODID:-//Refresh Web Development//Helios Calendar//EN
X-FROM-URL:https://www.bayareascience.org/calendar/index.php?com=details&eID=33159
X-WR-RELCALID:BayAreaScience.org Quantum Paradigm for Machine Learning - Livestream 20221202T203000
X-WR-TIMEZONE:America/New_York
X-WR-CALNAME:BayAreaScience.org
BEGIN:VEVENT
URL;VALUE=URI:https://www.bayareascience.org/calendar/index.php?com=detail&eID=33159
DTSTART:20221202T203000
DTEND:20221202T203000
SUMMARY:Quantum Paradigm for Machine Learning - Livestream
DESCRIPTION:The area of quantum machine...\n______________________________\nThis Event Downloaded From a Helios Calendar Powered Site
LOCATION:IEEE Computer Society of Silicon Valley -  \, \, CA  
CATEGORIES:BayAreaScience.org Events
PRIORITY:0
TRANSP:TRANSPARENT
END:VEVENT
END:VCALENDAR