BEGIN:VCALENDAR
VERSION:2.0
METHOD:PUBLISH
CALSCALE:GREGORIAN
PRODID:-//Refresh Web Development//Helios Calendar//EN
X-FROM-URL:https://www.bayareascience.org/calendar/index.php?com=details&eID=33161
X-WR-RELCALID:BayAreaScience.org  Our Lonely Sun: How Multiple Star Systems Form (or donâ€™t) 20221201T110000
X-WR-TIMEZONE:America/New_York
X-WR-CALNAME:BayAreaScience.org
BEGIN:VEVENT
URL;VALUE=URI:https://www.bayareascience.org/calendar/index.php?com=detail&eID=33161
DTSTART:20221201T110000
DTEND:20221201T120000
SUMMARY: Our Lonely Sun: How Multiple Star Systems Form (or donâ€™t)
DESCRIPTION:Most stars are born with one or more stellar companions. Observational advances over the last decade have enabled high-resolution\, interferometric studies of forming multiple systems and statistical...\n______________________________\nThis Event Downloaded From a Helios Calendar Powered Site
LOCATION:Kavli Institute Astrophysics Colloquium - Physics and Astrophysics Building Room 102/103 452 Lomita Mall\, Stanford\, CA  94305
CATEGORIES:BayAreaScience.org Events
PRIORITY:0
TRANSP:TRANSPARENT
END:VEVENT
END:VCALENDAR