BEGIN:VCALENDAR
VERSION:2.0
METHOD:PUBLISH
CALSCALE:GREGORIAN
PRODID:-//Refresh Web Development//Helios Calendar//EN
X-FROM-URL:https://www.bayareascience.org/calendar/index.php?com=details&eID=33169
X-WR-RELCALID:BayAreaScience.org Thermal tides in the Martian atmosphere = Livestream 20230127T120000
X-WR-TIMEZONE:America/New_York
X-WR-CALNAME:BayAreaScience.org
BEGIN:VEVENT
URL;VALUE=URI:https://www.bayareascience.org/calendar/index.php?com=detail&eID=33169
DTSTART:20230127T120000
DTEND:20230127T120000
SUMMARY:Thermal tides in the Martian atmosphere = Livestream
DESCRIPTION:Speaker: Siteng Fan\, Laboratoire de MÃ©tÃ©orologie Dynamique\,...\n______________________________\nThis Event Downloaded From a Helios Calendar Powered Site
LOCATION:UC Santa Cruz -  \, \, CA  
CATEGORIES:BayAreaScience.org Events
PRIORITY:0
TRANSP:TRANSPARENT
END:VEVENT
END:VCALENDAR