BEGIN:VCALENDAR
VERSION:2.0
METHOD:PUBLISH
CALSCALE:GREGORIAN
PRODID:-//Refresh Web Development//Helios Calendar//EN
X-FROM-URL:https://www.bayareascience.org/calendar/index.php?com=details&eID=33182
X-WR-RELCALID:BayAreaScience.org Looking Ahead Together: Cyversity and CLTC End-of-Year Reception 20221208T170000
X-WR-TIMEZONE:America/New_York
X-WR-CALNAME:BayAreaScience.org
BEGIN:VEVENT
URL;VALUE=URI:https://www.bayareascience.org/calendar/index.php?com=detail&eID=33182
DTSTART:20221208T170000
DTEND:20221208T193000
SUMMARY:Looking Ahead Together: Cyversity and CLTC End-of-Year Reception
DESCRIPTION:\n______________________________\nThis Event Downloaded From a Helios Calendar Powered Site
LOCATION:David Brower Center - 2150 Allston Way \, Berkeley\, CA  94704
CATEGORIES:BayAreaScience.org Events
PRIORITY:0
TRANSP:TRANSPARENT
END:VEVENT
END:VCALENDAR