BEGIN:VCALENDAR
VERSION:2.0
METHOD:PUBLISH
CALSCALE:GREGORIAN
PRODID:-//Refresh Web Development//Helios Calendar//EN
X-FROM-URL:https://www.bayareascience.org/calendar/index.php?com=details&eID=33183
X-WR-RELCALID:BayAreaScience.org Mycological Mexico - Oaxaca Diversity and Ethnomycology - Livestream 20221220T190000
X-WR-TIMEZONE:America/New_York
X-WR-CALNAME:BayAreaScience.org
BEGIN:VEVENT
URL;VALUE=URI:https://www.bayareascience.org/calendar/index.php?com=detail&eID=33183
DTSTART:20221220T190000
DTEND:20221220T210000
SUMMARY:Mycological Mexico - Oaxaca Diversity and Ethnomycology - Livestream
DESCRIPTION:It has been estimated that indigenous Mexicans consume about 300 species of edible mushrooms country-wide throughout its eight climate regions\, one of the most climate diverse countries in the...\n______________________________\nThis Event Downloaded From a Helios Calendar Powered Site
LOCATION:Mycological Society of San Francisco -  \, \, CA  
CATEGORIES:BayAreaScience.org Events
PRIORITY:0
TRANSP:TRANSPARENT
END:VEVENT
END:VCALENDAR