BEGIN:VCALENDAR
VERSION:2.0
METHOD:PUBLISH
CALSCALE:GREGORIAN
PRODID:-//Refresh Web Development//Helios Calendar//EN
X-FROM-URL:https://www.bayareascience.org/calendar/index.php?com=details&eID=33186
X-WR-RELCALID:BayAreaScience.org How the brain maintains homeostasis, from thirst to aging 20230129T160000
X-WR-TIMEZONE:America/New_York
X-WR-CALNAME:BayAreaScience.org
BEGIN:VEVENT
URL;VALUE=URI:https://www.bayareascience.org/calendar/index.php?com=detail&eID=33186
DTSTART:20230129T160000
DTEND:20230129T170000
SUMMARY:How the brain maintains homeostasis\, from thirst to aging
DESCRIPTION:William AllenÂ trained in both molecular and systems neuroscience as a Ph.D. student at Stanfordâ€™s Interdepartmental Neurosciences Program\, Dr. Allen plans to use state-of-the-art spatial...\n______________________________\nThis Event Downloaded From a Helios Calendar Powered Site
LOCATION:James H. Clark Center (Bldg 340) - Stanford University 318 Campus Dr\, Stanford\, CA  94305
CATEGORIES:BayAreaScience.org Events
PRIORITY:0
TRANSP:TRANSPARENT
END:VEVENT
END:VCALENDAR