BEGIN:VCALENDAR
VERSION:2.0
METHOD:PUBLISH
CALSCALE:GREGORIAN
PRODID:-//Refresh Web Development//Helios Calendar//EN
X-FROM-URL:https://www.bayareascience.org/calendar/index.php?com=details&eID=33187
X-WR-RELCALID:BayAreaScience.org Straw Rocket Workshop 20221204T110000
X-WR-TIMEZONE:America/New_York
X-WR-CALNAME:BayAreaScience.org
BEGIN:VEVENT
URL;VALUE=URI:https://www.bayareascience.org/calendar/index.php?com=detail&eID=33187
DTSTART:20221204T110000
DTEND:20221204T120000
SUMMARY:Straw Rocket Workshop
DESCRIPTION:Each Air Rocket Blastoff features an introduction...\n______________________________\nThis Event Downloaded From a Helios Calendar Powered Site
LOCATION:Hiller Aviation Museum - 601 Skyway Rd. \, San Carlos\, CA  94070
CATEGORIES:BayAreaScience.org Events
PRIORITY:0
TRANSP:TRANSPARENT
END:VEVENT
END:VCALENDAR