BEGIN:VCALENDAR
VERSION:2.0
METHOD:PUBLISH
CALSCALE:GREGORIAN
PRODID:-//Refresh Web Development//Helios Calendar//EN
X-FROM-URL:https://www.bayareascience.org/calendar/index.php?com=details&eID=33188
X-WR-RELCALID:BayAreaScience.org How to Modulate your Microbiome with Food to Improve Health and Treat Disease - Livestream 20221208T180000
X-WR-TIMEZONE:America/New_York
X-WR-CALNAME:BayAreaScience.org
BEGIN:VEVENT
URL;VALUE=URI:https://www.bayareascience.org/calendar/index.php?com=detail&eID=33188
DTSTART:20221208T180000
DTEND:20221208T190000
SUMMARY:How to Modulate your Microbiome with Food to Improve Health and Treat Disease - Livestream
DESCRIPTION:Learn about your microbiome and how it can be modulated with foods\, including fermented foods\, toÂ improve your health and treat disease.Â Presented by Dr. Sean Spencer\, a gastroenterologist...\n______________________________\nThis Event Downloaded From a Helios Calendar Powered Site
LOCATION:San Mateo Public Library -  \, \, CA  
CATEGORIES:BayAreaScience.org Events
PRIORITY:0
TRANSP:TRANSPARENT
END:VEVENT
END:VCALENDAR