BEGIN:VCALENDAR
VERSION:2.0
METHOD:PUBLISH
CALSCALE:GREGORIAN
PRODID:-//Refresh Web Development//Helios Calendar//EN
X-FROM-URL:https://www.bayareascience.org/calendar/index.php?com=details&eID=33190
X-WR-RELCALID:BayAreaScience.org Christmas Eve King Tides walk on Berkeley waterfront 20221224T103000
X-WR-TIMEZONE:America/New_York
X-WR-CALNAME:BayAreaScience.org
BEGIN:VEVENT
URL;VALUE=URI:https://www.bayareascience.org/calendar/index.php?com=detail&eID=33190
DTSTART:20221224T103000
DTEND:20221224T123000
SUMMARY:Christmas Eve King Tides walk on Berkeley waterfront
DESCRIPTION:F5C President Susan Schwartzleads a smallish group (15 tops) in a leisurely stroll along the Berkeley waterfront at Sea Breeze Deli. We'll talk about the history and future of the Berkeley waterfront\,...\n______________________________\nThis Event Downloaded From a Helios Calendar Powered Site
LOCATION:Seabreeze Deli - 598 University Ave \, Berkeley\, CA  94710
CATEGORIES:BayAreaScience.org Events
PRIORITY:0
TRANSP:TRANSPARENT
END:VEVENT
END:VCALENDAR