BEGIN:VCALENDAR
VERSION:2.0
METHOD:PUBLISH
CALSCALE:GREGORIAN
PRODID:-//Refresh Web Development//Helios Calendar//EN
X-FROM-URL:https://www.bayareascience.org/calendar/index.php?com=details&eID=33193
X-WR-RELCALID:BayAreaScience.org Wonderfest: Understanding Human Populations - Livestream 20221208T200000
X-WR-TIMEZONE:America/New_York
X-WR-CALNAME:BayAreaScience.org
BEGIN:VEVENT
URL;VALUE=URI:https://www.bayareascience.org/calendar/index.php?com=detail&eID=33193
DTSTART:20221208T200000
DTEND:20221208T210000
SUMMARY:Wonderfest: Understanding Human Populations - Livestream
DESCRIPTION:How long will the people in a particular population live? How do we know if a cancer treatment works\, or whether parents pass their socioeconomic status to their children? How often do formerly...\n______________________________\nThis Event Downloaded From a Helios Calendar Powered Site
LOCATION:Wonderfest -  \, \, CA  
CATEGORIES:BayAreaScience.org Events
PRIORITY:0
TRANSP:TRANSPARENT
END:VEVENT
END:VCALENDAR